BEGIN:VCALENDAR
VERSION:2.0
PRODID:-//Abajo - ECPv6.15.17.1//NONSGML v1.0//EN
CALSCALE:GREGORIAN
METHOD:PUBLISH
X-ORIGINAL-URL:https://abajo-newcastle.co.uk
X-WR-CALDESC:Events for Abajo
REFRESH-INTERVAL;VALUE=DURATION:PT1H
X-Robots-Tag:noindex
X-PUBLISHED-TTL:PT1H
BEGIN:VTIMEZONE
TZID:Europe/London
BEGIN:DAYLIGHT
TZOFFSETFROM:+0000
TZOFFSETTO:+0100
TZNAME:BST
DTSTART:20240331T010000
END:DAYLIGHT
BEGIN:STANDARD
TZOFFSETFROM:+0100
TZOFFSETTO:+0000
TZNAME:GMT
DTSTART:20241027T010000
END:STANDARD
BEGIN:DAYLIGHT
TZOFFSETFROM:+0000
TZOFFSETTO:+0100
TZNAME:BST
DTSTART:20250330T010000
END:DAYLIGHT
BEGIN:STANDARD
TZOFFSETFROM:+0100
TZOFFSETTO:+0000
TZNAME:GMT
DTSTART:20251026T010000
END:STANDARD
BEGIN:DAYLIGHT
TZOFFSETFROM:+0000
TZOFFSETTO:+0100
TZNAME:BST
DTSTART:20260329T010000
END:DAYLIGHT
BEGIN:STANDARD
TZOFFSETFROM:+0100
TZOFFSETTO:+0000
TZNAME:GMT
DTSTART:20261025T010000
END:STANDARD
END:VTIMEZONE
BEGIN:VEVENT
DTSTART;TZID=Europe/London:20250704T000000
DTEND;TZID=Europe/London:20250704T235959
DTSTAMP:20260423T215233
CREATED:20250702T175838Z
LAST-MODIFIED:20250702T175838Z
UID:827-1751587200-1751673599@abajo-newcastle.co.uk
SUMMARY:Tennis
DESCRIPTION:Wimbledon
URL:https://abajo-newcastle.co.uk/event/tennis-3/
END:VEVENT
BEGIN:VEVENT
DTSTART;TZID=Europe/London:20250703T200000
DTEND;TZID=Europe/London:20250703T200000
DTSTAMP:20260423T215233
CREATED:20250702T180211Z
LAST-MODIFIED:20250702T180211Z
UID:835-1751572800-1751572800@abajo-newcastle.co.uk
SUMMARY:Spain (W) v Portugal (W)
DESCRIPTION:Womens Euros
URL:https://abajo-newcastle.co.uk/event/spain-w-v-portugal-w/
END:VEVENT
BEGIN:VEVENT
DTSTART;TZID=Europe/London:20250703T170000
DTEND;TZID=Europe/London:20250703T170000
DTSTAMP:20260423T215233
CREATED:20250702T200858Z
LAST-MODIFIED:20250702T200858Z
UID:857-1751562000-1751562000@abajo-newcastle.co.uk
SUMMARY:Belgium (W) v Italy (W)
DESCRIPTION:Womens Euros
URL:https://abajo-newcastle.co.uk/event/belgium-w-v-italy-w/
END:VEVENT
BEGIN:VEVENT
DTSTART;TZID=Europe/London:20250703T000000
DTEND;TZID=Europe/London:20250703T235959
DTSTAMP:20260423T215233
CREATED:20250702T175812Z
LAST-MODIFIED:20250702T175812Z
UID:825-1751500800-1751587199@abajo-newcastle.co.uk
SUMMARY:Tennis
DESCRIPTION:Wimbledon
URL:https://abajo-newcastle.co.uk/event/tennis-2/
END:VEVENT
BEGIN:VEVENT
DTSTART;TZID=Europe/London:20250702T200000
DTEND;TZID=Europe/London:20250702T200000
DTSTAMP:20260423T215233
CREATED:20250702T180049Z
LAST-MODIFIED:20250702T180049Z
UID:831-1751486400-1751486400@abajo-newcastle.co.uk
SUMMARY:Switzerland (W) v Norway (W)
DESCRIPTION:Womens Euros
URL:https://abajo-newcastle.co.uk/event/switzerland-w-v-norway-w/
END:VEVENT
BEGIN:VEVENT
DTSTART;TZID=Europe/London:20250702T000000
DTEND;TZID=Europe/London:20250702T235959
DTSTAMP:20260423T215233
CREATED:20250702T175732Z
LAST-MODIFIED:20250702T175732Z
UID:823-1751414400-1751500799@abajo-newcastle.co.uk
SUMMARY:Tennis
DESCRIPTION:Wimbledon
URL:https://abajo-newcastle.co.uk/event/tennis/
END:VEVENT
BEGIN:VEVENT
DTSTART;TZID=Europe/London:20250629T210000
DTEND;TZID=Europe/London:20250629T210000
DTSTAMP:20260423T215233
CREATED:20250625T234101Z
LAST-MODIFIED:20250625T234101Z
UID:819-1751230800-1751230800@abajo-newcastle.co.uk
SUMMARY:Flamengo v Bayern
DESCRIPTION:Club World Cup
URL:https://abajo-newcastle.co.uk/event/flamengo-v-bayern/
END:VEVENT
BEGIN:VEVENT
DTSTART;TZID=Europe/London:20250629T170000
DTEND;TZID=Europe/London:20250629T170000
DTSTAMP:20260423T215233
CREATED:20250625T234017Z
LAST-MODIFIED:20250625T234017Z
UID:817-1751216400-1751216400@abajo-newcastle.co.uk
SUMMARY:PSG v Inter Miami
DESCRIPTION:Club World Cup
URL:https://abajo-newcastle.co.uk/event/psg-v-inter-miami/
END:VEVENT
BEGIN:VEVENT
DTSTART;TZID=Europe/London:20250628T210000
DTEND;TZID=Europe/London:20250628T210000
DTSTAMP:20260423T215233
CREATED:20250625T233931Z
LAST-MODIFIED:20250625T233931Z
UID:815-1751144400-1751144400@abajo-newcastle.co.uk
SUMMARY:Benfica v Chelsea
DESCRIPTION:Club World Cup
URL:https://abajo-newcastle.co.uk/event/benfica-v-chelsea/
END:VEVENT
BEGIN:VEVENT
DTSTART;TZID=Europe/London:20250628T200000
DTEND;TZID=Europe/London:20250628T200000
DTSTAMP:20260423T215233
CREATED:20250625T233725Z
LAST-MODIFIED:20250625T233725Z
UID:811-1751140800-1751140800@abajo-newcastle.co.uk
SUMMARY:England U21 v Germany U21
DESCRIPTION:European Championship Final
URL:https://abajo-newcastle.co.uk/event/england-u21-v-germany-u21-2/
END:VEVENT
BEGIN:VEVENT
DTSTART;TZID=Europe/London:20250628T170000
DTEND;TZID=Europe/London:20250628T170000
DTSTAMP:20260423T215233
CREATED:20250625T233837Z
LAST-MODIFIED:20250625T233837Z
UID:813-1751130000-1751130000@abajo-newcastle.co.uk
SUMMARY:Palmeiras v Botofogo
DESCRIPTION:Club World Cup
URL:https://abajo-newcastle.co.uk/event/palmeiras-v-botofogo/
END:VEVENT
BEGIN:VEVENT
DTSTART;TZID=Europe/London:20250626T200000
DTEND;TZID=Europe/London:20250626T200000
DTSTAMP:20260423T215233
CREATED:20250625T233636Z
LAST-MODIFIED:20250625T233636Z
UID:808-1750968000-1750968000@abajo-newcastle.co.uk
SUMMARY:Juventus v Man City
DESCRIPTION:Club World Cup
URL:https://abajo-newcastle.co.uk/event/juventus-v-man-city/
END:VEVENT
BEGIN:VEVENT
DTSTART;TZID=Europe/London:20250622T200000
DTEND;TZID=Europe/London:20250622T200000
DTSTAMP:20260423T215233
CREATED:20250618T024259Z
LAST-MODIFIED:20250618T024259Z
UID:770-1750622400-1750622400@abajo-newcastle.co.uk
SUMMARY:Real Madrid v Pachua
DESCRIPTION:Club World Cup
URL:https://abajo-newcastle.co.uk/event/real-madrid-v-pachua/
END:VEVENT
BEGIN:VEVENT
DTSTART;TZID=Europe/London:20250622T170000
DTEND;TZID=Europe/London:20250622T170000
DTSTAMP:20260423T215233
CREATED:20250618T024221Z
LAST-MODIFIED:20250618T024221Z
UID:768-1750611600-1750611600@abajo-newcastle.co.uk
SUMMARY:Juventus v Wydad Ac
DESCRIPTION:Club World Cup
URL:https://abajo-newcastle.co.uk/event/juventus-v-wydad-ac/
END:VEVENT
BEGIN:VEVENT
DTSTART;TZID=Europe/London:20250621T200000
DTEND;TZID=Europe/London:20250621T200000
DTSTAMP:20260423T215233
CREATED:20250618T024108Z
LAST-MODIFIED:20250618T024108Z
UID:766-1750536000-1750536000@abajo-newcastle.co.uk
SUMMARY:Inter Milan v Urawa Reds
DESCRIPTION:Club World Cup
URL:https://abajo-newcastle.co.uk/event/inter-milan-v-urawa-reds/
END:VEVENT
BEGIN:VEVENT
DTSTART;TZID=Europe/London:20250621T170000
DTEND;TZID=Europe/London:20250621T170000
DTSTAMP:20260423T215233
CREATED:20250618T024022Z
LAST-MODIFIED:20250618T024022Z
UID:764-1750525200-1750525200@abajo-newcastle.co.uk
SUMMARY:Mamelodi v Dortmund
DESCRIPTION:Club World Cup
URL:https://abajo-newcastle.co.uk/event/mamelodi-v-dortmund/
END:VEVENT
BEGIN:VEVENT
DTSTART;TZID=Europe/London:20250620T190000
DTEND;TZID=Europe/London:20250620T190000
DTSTAMP:20260423T215233
CREATED:20250618T023826Z
LAST-MODIFIED:20250618T023826Z
UID:762-1750446000-1750446000@abajo-newcastle.co.uk
SUMMARY:Flamengo v Chelsea
DESCRIPTION:Club World Cup
URL:https://abajo-newcastle.co.uk/event/flamengo-v-chelsea/
END:VEVENT
BEGIN:VEVENT
DTSTART;TZID=Europe/London:20250620T170000
DTEND;TZID=Europe/London:20250620T170000
DTSTAMP:20260423T215233
CREATED:20250618T023742Z
LAST-MODIFIED:20250618T023742Z
UID:760-1750438800-1750438800@abajo-newcastle.co.uk
SUMMARY:Benfica v Auckland City
DESCRIPTION:Club World Cup
URL:https://abajo-newcastle.co.uk/event/benfica-v-auckland-city/
END:VEVENT
BEGIN:VEVENT
DTSTART;TZID=Europe/London:20250619T200000
DTEND;TZID=Europe/London:20250619T200000
DTSTAMP:20260423T215233
CREATED:20250618T023620Z
LAST-MODIFIED:20250618T023620Z
UID:758-1750363200-1750363200@abajo-newcastle.co.uk
SUMMARY:Inter Miami CF v FC Porto
DESCRIPTION:Club World Cup
URL:https://abajo-newcastle.co.uk/event/inter-miami-cf-v-fc-porto/
END:VEVENT
BEGIN:VEVENT
DTSTART;TZID=Europe/London:20250619T170000
DTEND;TZID=Europe/London:20250619T170000
DTSTAMP:20260423T215233
CREATED:20250618T023529Z
LAST-MODIFIED:20250618T023529Z
UID:756-1750352400-1750352400@abajo-newcastle.co.uk
SUMMARY:Palmeiras v Al Ahly
DESCRIPTION:Club World Cup
URL:https://abajo-newcastle.co.uk/event/palmeiras-v-al-ahly/
END:VEVENT
BEGIN:VEVENT
DTSTART;TZID=Europe/London:20250618T200000
DTEND;TZID=Europe/London:20250618T200000
DTSTAMP:20260423T215233
CREATED:20250618T023440Z
LAST-MODIFIED:20250618T023440Z
UID:754-1750276800-1750276800@abajo-newcastle.co.uk
SUMMARY:England U21 v Germany U21
DESCRIPTION:U21 European championship
URL:https://abajo-newcastle.co.uk/event/england-u21-v-germany-u21/
END:VEVENT
BEGIN:VEVENT
DTSTART;TZID=Europe/London:20250618T200000
DTEND;TZID=Europe/London:20250618T200000
DTSTAMP:20260423T215233
CREATED:20250618T023259Z
LAST-MODIFIED:20250618T023259Z
UID:752-1750276800-1750276800@abajo-newcastle.co.uk
SUMMARY:Real Madrid v Al-Hilal
DESCRIPTION:Club World Cup
URL:https://abajo-newcastle.co.uk/event/real-madrid-v-al-hilal/
END:VEVENT
BEGIN:VEVENT
DTSTART;TZID=Europe/London:20250618T170000
DTEND;TZID=Europe/London:20250618T170000
DTSTAMP:20260423T215233
CREATED:20250618T023145Z
LAST-MODIFIED:20250618T023145Z
UID:750-1750266000-1750266000@abajo-newcastle.co.uk
SUMMARY:Man City v Wydad Ac
DESCRIPTION:Club World Cup
URL:https://abajo-newcastle.co.uk/event/man-city-v-wydad-ac/
END:VEVENT
BEGIN:VEVENT
DTSTART;TZID=Europe/London:20250608T200000
DTEND;TZID=Europe/London:20250608T200000
DTSTAMP:20260423T215233
CREATED:20250602T225705Z
LAST-MODIFIED:20250602T225705Z
UID:728-1749412800-1749412800@abajo-newcastle.co.uk
SUMMARY:Nations League Final
DESCRIPTION:
URL:https://abajo-newcastle.co.uk/event/nations-league-final/
END:VEVENT
BEGIN:VEVENT
DTSTART;TZID=Europe/London:20250607T170000
DTEND;TZID=Europe/London:20250607T170000
DTSTAMP:20260423T215233
CREATED:20250602T225631Z
LAST-MODIFIED:20250602T225631Z
UID:726-1749315600-1749315600@abajo-newcastle.co.uk
SUMMARY:Andorra v England
DESCRIPTION:WC Qualifier
URL:https://abajo-newcastle.co.uk/event/andorra-v-england/
END:VEVENT
BEGIN:VEVENT
DTSTART;TZID=Europe/London:20250606T200000
DTEND;TZID=Europe/London:20250606T200000
DTSTAMP:20260423T215233
CREATED:20250602T225528Z
LAST-MODIFIED:20250602T225528Z
UID:722-1749240000-1749240000@abajo-newcastle.co.uk
SUMMARY:Josh Kelly v Flavius Biea
DESCRIPTION:Boxing
URL:https://abajo-newcastle.co.uk/event/josh-kelly-v-flavius-biea/
END:VEVENT
BEGIN:VEVENT
DTSTART;TZID=Europe/London:20250606T194500
DTEND;TZID=Europe/London:20250606T194500
DTSTAMP:20260423T215233
CREATED:20250602T225558Z
LAST-MODIFIED:20250602T225558Z
UID:724-1749239100-1749239100@abajo-newcastle.co.uk
SUMMARY:Scotland v Iceland
DESCRIPTION:
URL:https://abajo-newcastle.co.uk/event/scotland-v-iceland/
END:VEVENT
BEGIN:VEVENT
DTSTART;TZID=Europe/London:20250606T194500
DTEND;TZID=Europe/London:20250606T194500
DTSTAMP:20260423T215233
CREATED:20250602T225444Z
LAST-MODIFIED:20250602T225444Z
UID:720-1749239100-1749239100@abajo-newcastle.co.uk
SUMMARY:Wales v Liechtenstein
DESCRIPTION:
URL:https://abajo-newcastle.co.uk/event/wales-v-liechtenstein/
END:VEVENT
BEGIN:VEVENT
DTSTART;TZID=Europe/London:20250605T194500
DTEND;TZID=Europe/London:20250605T194500
DTSTAMP:20260423T215233
CREATED:20250602T225325Z
LAST-MODIFIED:20250602T225325Z
UID:718-1749152700-1749152700@abajo-newcastle.co.uk
SUMMARY:Spain v France
DESCRIPTION:Nations League Semi Final
URL:https://abajo-newcastle.co.uk/event/spain-v-france/
END:VEVENT
BEGIN:VEVENT
DTSTART;TZID=Europe/London:20250604T194500
DTEND;TZID=Europe/London:20250604T194500
DTSTAMP:20260423T215233
CREATED:20250602T225246Z
LAST-MODIFIED:20250602T225246Z
UID:716-1749066300-1749066300@abajo-newcastle.co.uk
SUMMARY:Germany v Portugal
DESCRIPTION:Nations League Semi Final
URL:https://abajo-newcastle.co.uk/event/germany-v-portugal/
END:VEVENT
END:VCALENDAR